BEGIN:VCALENDAR
VERSION:2.0
PRODID:-//Porter Barn Wood - ECPv6.15.17//NONSGML v1.0//EN
CALSCALE:GREGORIAN
METHOD:PUBLISH
X-WR-CALNAME:Porter Barn Wood
X-ORIGINAL-URL:https://porterbarnwood.com
X-WR-CALDESC:Events for Porter Barn Wood
REFRESH-INTERVAL;VALUE=DURATION:PT1H
X-Robots-Tag:noindex
X-PUBLISHED-TTL:PT1H
BEGIN:VTIMEZONE
TZID:America/Phoenix
BEGIN:STANDARD
TZOFFSETFROM:-0700
TZOFFSETTO:-0700
TZNAME:MST
DTSTART:20210101T000000
END:STANDARD
END:VTIMEZONE
BEGIN:VEVENT
DTSTART;TZID=America/Phoenix:20220221T180000
DTEND;TZID=America/Phoenix:20220221T200000
DTSTAMP:20260425T142910
CREATED:20211210T190055Z
LAST-MODIFIED:20220211T211512Z
UID:10000062-1645466400-1645473600@porterbarnwood.com
SUMMARY:Yo-Yo Club - FREE
DESCRIPTION:Come join us for Yo-Yo club on Monday nights from 6-8pm in our Design Lounge. Come hang out and learn yo-yo tricks and try out some of the coolest new stuff from Yo-Yo Factory. Julius\, from @allyoyo_official will be there with goodies and members from the team are generally there to help inspire and teach. All ages welcome and there’s no charge to join in. Sometimes there’s free giveaways and contests as well. Join the fun! See you there. \nHere are some clips from Julius and others:
URL:https://porterbarnwood.com/event/yo-yo-club-free/
LOCATION:Porter Barn Wood\, 901 S 7th St\, Phoenix\, AZ\, 85034\, United States
CATEGORIES:Hosting 3rd Party
ATTACH;FMTTYPE=image/jpeg:https://porterbarnwood.com/wp-content/uploads/2021/11/IMG_288BCD6AB0EA-1.jpeg
ORGANIZER;CN="Thomas Porter":MAILTO:thomas@porterbarnwood.com
END:VEVENT
END:VCALENDAR